BEGIN:VCALENDAR
VERSION:2.0
PRODID:-//October Gallery Museum  - ECPv6.15.15//NONSGML v1.0//EN
CALSCALE:GREGORIAN
METHOD:PUBLISH
X-WR-CALNAME:October Gallery Museum 
X-ORIGINAL-URL:https://octobergallery.com
X-WR-CALDESC:Events for October Gallery Museum 
REFRESH-INTERVAL;VALUE=DURATION:PT1H
X-Robots-Tag:noindex
X-PUBLISHED-TTL:PT1H
BEGIN:VTIMEZONE
TZID:America/New_York
BEGIN:DAYLIGHT
TZOFFSETFROM:-0500
TZOFFSETTO:-0400
TZNAME:EDT
DTSTART:20240310T070000
END:DAYLIGHT
BEGIN:STANDARD
TZOFFSETFROM:-0400
TZOFFSETTO:-0500
TZNAME:EST
DTSTART:20241103T060000
END:STANDARD
BEGIN:DAYLIGHT
TZOFFSETFROM:-0500
TZOFFSETTO:-0400
TZNAME:EDT
DTSTART:20250309T070000
END:DAYLIGHT
BEGIN:STANDARD
TZOFFSETFROM:-0400
TZOFFSETTO:-0500
TZNAME:EST
DTSTART:20251102T060000
END:STANDARD
BEGIN:DAYLIGHT
TZOFFSETFROM:-0500
TZOFFSETTO:-0400
TZNAME:EDT
DTSTART:20260308T070000
END:DAYLIGHT
BEGIN:STANDARD
TZOFFSETFROM:-0400
TZOFFSETTO:-0500
TZNAME:EST
DTSTART:20261101T060000
END:STANDARD
BEGIN:DAYLIGHT
TZOFFSETFROM:-0500
TZOFFSETTO:-0400
TZNAME:EDT
DTSTART:20270314T070000
END:DAYLIGHT
BEGIN:STANDARD
TZOFFSETFROM:-0400
TZOFFSETTO:-0500
TZNAME:EST
DTSTART:20271107T060000
END:STANDARD
END:VTIMEZONE
BEGIN:VEVENT
DTSTART;TZID=America/New_York:20250913T100000
DTEND;TZID=America/New_York:20260426T170000
DTSTAMP:20260424T213442
CREATED:20251231T062949Z
LAST-MODIFIED:20251231T062949Z
UID:457176-1757757600-1777222800@octobergallery.com
SUMMARY:African American Museum in Philadelphia
DESCRIPTION:Sailing to Freedom: Maritime Dimensions of the Underground Railroad \nOn View: September 13\, 2025 – April 26\, 2026 \n\n\n\n\n\n\n\nJack T. Franklin Auditorium \nAAMP is pleased to present Sailing to Freedom: Maritime Dimensions of the Underground Railroad\, a compelling traveling exhibition developed initially at the New Bedford Whaling Museum in 2022 under the co-curation of Dr. Timothy Walker and Michael Dyer. \nThis landmark project invites audiences to revisit and deepen our understanding of the maritime dimension of the Underground Railroad. It uncovers how enslaved African Americans\, in addition to overland routes\, undertook daring escapes by sea—charting covert paths along the Atlantic coast\, aboard merchant and passenger vessels\, and via lesser-known watercraft.\n​\nThis traveling version of the exhibition presents faithful reproductions of the original displays\, alongside new interpretive material that expands both geographical scope and historical insight. It offers visitors an immersive encounter with narratives of flight\, resilience\, and agency—stories of freedom pursued not only across land but over water\, and beyond the bounds of the United States. \n\n\n\n\n\n\n\n\nDetails – visit the museum’s website click here\n\n\nShare this:\n				Share on Facebook (Opens in new window)\n				Facebook\n			\n				Share on X (Opens in new window)\n				X\n			\n				Email a link to a friend (Opens in new window)\n				Email\n			\n				Print (Opens in new window)\n				Print\n			\n				Share on LinkedIn (Opens in new window)\n				LinkedIn\n			Like this:Like Loading...
URL:https://octobergallery.com/event/african-american-museum-in-philadelphia-4/
LOCATION:African American Museum in Philadelphia\, 701 Arch Street\, Philadelphia\, PA\, 19106\, United States
CATEGORIES:Black Philadelphia 250
ATTACH;FMTTYPE=image/jpeg:https://octobergallery.com/wp-content/uploads/2025/12/aamp-sailing-to-freedom_orig.jpg
END:VEVENT
BEGIN:VEVENT
DTSTART;TZID=America/New_York:20251108T140000
DTEND;TZID=America/New_York:20251208T180000
DTSTAMP:20260424T213442
CREATED:20251103T132406Z
LAST-MODIFIED:20251103T141443Z
UID:454783-1762610400-1765216800@octobergallery.com
SUMMARY:Black Art Lectures & Seminars
DESCRIPTION:October Gallery Lecture Series and Seminars.\nReserve your spot on Eventebrite – click here \nEvery Saturday and Sunday from November 8\, 2025\, through December 7\, 2025\, from 2 to 6 PM. \nEach weekend classes will cover: \n“The Art of Photography” with renown photographer Raymond W. Holman\, Jr.\n“Collecting Black Art” lead by African Art Distributor/Collector Michael Muhammad\n“Print Making” with famous visual artist Andromeda Cook \nHere is a sample of what will be covered in the “Collecting Black Art” class: \nCollecting Black Art by Michael Muhammad\nNov 03\, 2025 \nCollecting Black art is a meaningful practice that blends cultural preservation\, historical documentation\, aesthetic appreciation\, and social justice. It goes beyond acquiring objects for personal enjoyment or investment; it is a deliberate engagement with the visual expressions of Black identity\, experience\, and imagination. \nHistorically\, Black artists have been excluded from mainstream art institutions. Museums and galleries have often marginalized their contributions\, resulting in limited visibility and representation. In response\, private collectors—especially within the Black community—have played a vital role in preserving and promoting Black visual culture. Their efforts have helped elevate artists such as Romare Bearden\, Faith Ringgold\, and Jacob Lawrence\, whose work now occupies a more prominent place in the cultural canon. \nCollecting Black art is also an act of intellectual and cultural stewardship. Each artwork carries layers of meaning—historical\, political\, spiritual\, and emotional. Collectors who engage deeply with these works contribute to a broader understanding of Black cultural production. They research provenance\, contextualize pieces within historical frameworks\, and share knowledge through exhibitions\, publications\, and educational programming. This stewardship extends beyond ownership; it involves advocacy for artists\, support for emerging voices\, and collaboration with institutions to ensure that Black art is accessible to diverse audiences. \nThe social impact of collecting Black art is profound. Art shapes perceptions\, fosters empathy\, and inspires change. By investing in Black artists\, collectors challenge systemic inequities in the art market and affirm the value of Black creativity. This support can be transformative\, providing artists with financial stability\, visibility\, and opportunities for growth. Moreover\, collecting Black art affirms representation. When Black art is collected\, exhibited\, and celebrated\, it sends a powerful message about whose stories are worthy of preservation. It affirms that Black lives\, histories\, and aesthetics are central to the cultural landscape. \nBlack art is not monolithic. It encompasses a wide range of styles\, mediums\, and themes—from figurative painting and abstract sculpture to digital installations and textile work. Collectors who embrace this diversity help dismantle reductive stereotypes and showcase the complexity of Black artistic expression. Themes explored in Black art include identity and ancestry\, resistance and resilience\, spirituality and ritual\, and joy and everyday life. Works that trace lineage and explore heritage offer insight into the multifaceted nature of Black identity. Art that responds to social injustice and honors survival serves as a visual record of resistance. Pieces that engage with African cosmologies and sacred practices highlight the spiritual dimensions of Black life. Depictions of leisure\, love\, and community affirm the beauty of ordinary moments. \nWhile private collections are important\, collaboration with public institutions is essential for broader impact. Museums and universities benefit from partnerships with collectors who lend or donate works\, co-curate exhibitions\, and support educational initiatives. These collaborations help democratize access to Black art and ensure it reaches audiences beyond elite circles. Collectors also influence institutional priorities by advocating for the inclusion of Black artists in permanent collections and exhibitions. \nThe art market presents both opportunities and challenges. Recent interest in Black artists has led to higher valuations and greater visibility but also raises concerns about commodification and speculative buying. Ethical collectors approach the market with care\, prioritizing relationships with artists and respecting cultural contexts. They understand that collecting is not just about acquisition—it is about responsibility. \nThe future of Black art collecting lies in intentionality\, inclusivity\, and innovation. Emerging collectors are using digital platforms to discover artists\, share collections\, and build communities. Trends include digital archiving\, community-based collecting\, youth engagement\, and collective ownership. These approaches reflect a shift from individual possession to communal impact. \nIn conclusion\, collecting Black art is a dynamic and meaningful practice that honors creativity\, affirms representation\, and contributes to a more just and vibrant cultural landscape. It is a testament to the enduring power of art to reflect\, challenge\, and transform the world. \nBooks that will be available during the seminars: \n \n \n \n\nCollecting Black Art video – click here\n. \n \n  \n  \n  \nShare this:\n				Share on Facebook (Opens in new window)\n				Facebook\n			\n				Share on X (Opens in new window)\n				X\n			\n				Email a link to a friend (Opens in new window)\n				Email\n			\n				Print (Opens in new window)\n				Print\n			\n				Share on LinkedIn (Opens in new window)\n				LinkedIn\n			Like this:Like Loading...
URL:https://octobergallery.com/event/black-art-lectures-seminars/
LOCATION:October Gallery\, 6353 Greene Street\, Philadelphia\, PA\, 19144\, United States
CATEGORIES:Art Show,Seminar/Lecture
ATTACH;FMTTYPE=image/png:https://octobergallery.com/wp-content/uploads/2025/11/seminars1234.png
ORGANIZER;CN="October Gallery":MAILTO:events@octobergallery.com
END:VEVENT
BEGIN:VEVENT
DTSTART;TZID=America/New_York:20251122T130000
DTEND;TZID=America/New_York:20251122T150000
DTSTAMP:20260424T213442
CREATED:20250926T234102Z
LAST-MODIFIED:20260418T025036Z
UID:443452-1763816400-1763823600@octobergallery.com
SUMMARY:An Evening with  DANIELLE SCOTT  in conversation with Misty Sol
DESCRIPTION:Danielle Scott is a mixed-media artist in Jersey City. Her work explores the joy and pain of women of color.\n\n\nCollectors’ Life: Inaugural MAAAC Exhibition Nov/Dec 2005\nDanielle Scott is a mixed-media assemblage artist based in Jersey City\, New Jersey\, whose work explores themes of joy and pain\, particularly concerning the experiences of women of color. She has taught art for nineteen years and holds a B.F.A.\, having studied under Jack Whitten. \nScott’s paintings\, photography\, and sculptures are intended to resonate with viewers. Her work is often inspired by her experiences as an Afro-Cuban\, Polish-Jewish\, lesbian woman and mother. She was recognized in 2021 by Essence Magazine. In 2024\, she and the filmmakers of “Danielle Scott: Ancestral Call” received an NAACP Image Award nomination. \nOn Thursday\, 13 November\, Ms Scott will be in conversation with local luminary; artist\, author\, and playwright\, Misty Sol. \nDon’t miss this event! Follow us on Instagram for all the latest updates and reminders! \n \n\n\n\nShare this:\n				Share on Facebook (Opens in new window)\n				Facebook\n			\n				Share on X (Opens in new window)\n				X\n			\n				Email a link to a friend (Opens in new window)\n				Email\n			\n				Print (Opens in new window)\n				Print\n			\n				Share on LinkedIn (Opens in new window)\n				LinkedIn\n			Like this:Like Loading...
URL:https://octobergallery.com/event/an-evening-with-danielle-scott-in-conversation-with-misty-sol/
LOCATION:Francis Cope House\, One Awbury Road\, Philadelphia\, PA\, 19138\, United States
ATTACH;FMTTYPE=image/jpeg:https://octobergallery.com/wp-content/uploads/2025/09/efa1907b724b603a19ee52021e259f76.jpg
END:VEVENT
BEGIN:VEVENT
DTSTART;TZID=America/New_York:20251122T140000
DTEND;TZID=America/New_York:20251122T170000
DTSTAMP:20260424T213442
CREATED:20250811T191905Z
LAST-MODIFIED:20250929T133949Z
UID:441988-1763820000-1763830800@octobergallery.com
SUMMARY:Singing the African American Spirituals with Integrity 2025
DESCRIPTION:A workshop for church musicians\, clergy\, and lay to learn how to introduce  African American Spirituals to their choirs and congregations.\n\n\nSinging the African American Spirituals with Integrity\nA workshop for clergy\, musicians\, and congregants \nSat. Nov. 22\, 2025 from 2 to 5 pm at St. David’s Episcopal Church763 South Valley Forge Rd\, Wayne\, PA 19087 \nClinicians: Ruth Naomi Floyd\, Dr. Jay Fluellen\, Carrie Lessene\, Dr. Thomas Lloyd \nGuest Choir: Intermezzo Choir Ministry\, Carrie Lessene\, Director \nThis workshop is offered for church musicians\, clergy\, and lay people who seek to learn more about how to introduce the repertoire of the African American Spirituals to their choirs and congregations. \nDuring the first part of the workshop\, the four clinicians will take turns modeling how they teach the Spirituals to their adult\, youth\, and children’s choirs\, as well as to their congregations. \nMusic for these selections will be provided to attendees as part of the workshop. \nSpecial attention will be given to the historical context of the music\, and the ways in which those who are not direct descendants of the enslaved people who originated the Spirituals can develop their own authentic connection to the music with respect and integrity. \nThe afternoon will conclude with a short service of singing\, prayer\, and a homily. \nTo learn more about the Anti-Racism Commission of the Episcopal Diocese of Pennsylvania\, visit their website: arcdiopa.org. \n\n\nShare this:\n				Share on Facebook (Opens in new window)\n				Facebook\n			\n				Share on X (Opens in new window)\n				X\n			\n				Email a link to a friend (Opens in new window)\n				Email\n			\n				Print (Opens in new window)\n				Print\n			\n				Share on LinkedIn (Opens in new window)\n				LinkedIn\n			Like this:Like Loading...
URL:https://octobergallery.com/event/singing-the-african-american-spirituals-with-integrity-2025/
LOCATION:763 S Valley Forge Rd\, 763 South Valley Forge Road\, Wayne\, PA\, 19087\, United States
CATEGORIES:Festival
ATTACH;FMTTYPE=image/jpeg:https://octobergallery.com/wp-content/uploads/2025/08/3e50bc9f92417462e7a7ff2cd8ebd35d.jpg
END:VEVENT
BEGIN:VEVENT
DTSTART;TZID=America/New_York:20251122T140000
DTEND;TZID=America/New_York:20251122T170000
DTSTAMP:20260424T213442
CREATED:20250811T191905Z
LAST-MODIFIED:20250929T134015Z
UID:441990-1763820000-1763830800@octobergallery.com
SUMMARY:Singing the African American Spirituals with Integrity 2025
DESCRIPTION:A workshop for church musicians\, clergy\, and lay to learn how to introduce  African American Spirituals to their choirs and congregations.\n\n\nSinging the African American Spirituals with Integrity\nA workshop for clergy\, musicians\, and congregants \nSat. Nov. 22\, 2025 from 2 to 5 pm at St. David’s Episcopal Church763 South Valley Forge Rd\, Wayne\, PA 19087 \nClinicians: Ruth Naomi Floyd\, Dr. Jay Fluellen\, Carrie Lessene\, Dr. Thomas Lloyd \nGuest Choir: Intermezzo Choir Ministry\, Carrie Lessene\, Director \nThis workshop is offered for church musicians\, clergy\, and lay people who seek to learn more about how to introduce the repertoire of the African American Spirituals to their choirs and congregations. \nDuring the first part of the workshop\, the four clinicians will take turns modeling how they teach the Spirituals to their adult\, youth\, and children’s choirs\, as well as to their congregations. \nMusic for these selections will be provided to attendees as part of the workshop. \nSpecial attention will be given to the historical context of the music\, and the ways in which those who are not direct descendants of the enslaved people who originated the Spirituals can develop their own authentic connection to the music with respect and integrity. \nThe afternoon will conclude with a short service of singing\, prayer\, and a homily. \nTo learn more about the Anti-Racism Commission of the Episcopal Diocese of Pennsylvania\, visit their website: arcdiopa.org. \n\n\nShare this:\n				Share on Facebook (Opens in new window)\n				Facebook\n			\n				Share on X (Opens in new window)\n				X\n			\n				Email a link to a friend (Opens in new window)\n				Email\n			\n				Print (Opens in new window)\n				Print\n			\n				Share on LinkedIn (Opens in new window)\n				LinkedIn\n			Like this:Like Loading...
URL:https://octobergallery.com/event/singing-the-african-american-spirituals-with-integrity-2025-2/
LOCATION:763 S Valley Forge Rd\, 763 South Valley Forge Road\, Wayne\, PA\, 19087\, United States
CATEGORIES:Festival
ATTACH;FMTTYPE=image/jpeg:https://octobergallery.com/wp-content/uploads/2025/08/3e50bc9f92417462e7a7ff2cd8ebd35d.jpg
END:VEVENT
END:VCALENDAR