BEGIN:VCALENDAR
VERSION:2.0
PRODID:-//October Gallery Museum  - ECPv6.15.15//NONSGML v1.0//EN
CALSCALE:GREGORIAN
METHOD:PUBLISH
X-ORIGINAL-URL:https://octobergallery.com
X-WR-CALDESC:Events for October Gallery Museum 
REFRESH-INTERVAL;VALUE=DURATION:PT1H
X-Robots-Tag:noindex
X-PUBLISHED-TTL:PT1H
BEGIN:VTIMEZONE
TZID:America/New_York
BEGIN:DAYLIGHT
TZOFFSETFROM:-0500
TZOFFSETTO:-0400
TZNAME:EDT
DTSTART:20240310T070000
END:DAYLIGHT
BEGIN:STANDARD
TZOFFSETFROM:-0400
TZOFFSETTO:-0500
TZNAME:EST
DTSTART:20241103T060000
END:STANDARD
BEGIN:DAYLIGHT
TZOFFSETFROM:-0500
TZOFFSETTO:-0400
TZNAME:EDT
DTSTART:20250309T070000
END:DAYLIGHT
BEGIN:STANDARD
TZOFFSETFROM:-0400
TZOFFSETTO:-0500
TZNAME:EST
DTSTART:20251102T060000
END:STANDARD
BEGIN:DAYLIGHT
TZOFFSETFROM:-0500
TZOFFSETTO:-0400
TZNAME:EDT
DTSTART:20260308T070000
END:DAYLIGHT
BEGIN:STANDARD
TZOFFSETFROM:-0400
TZOFFSETTO:-0500
TZNAME:EST
DTSTART:20261101T060000
END:STANDARD
BEGIN:DAYLIGHT
TZOFFSETFROM:-0500
TZOFFSETTO:-0400
TZNAME:EDT
DTSTART:20270314T070000
END:DAYLIGHT
BEGIN:STANDARD
TZOFFSETFROM:-0400
TZOFFSETTO:-0500
TZNAME:EST
DTSTART:20271107T060000
END:STANDARD
END:VTIMEZONE
BEGIN:VEVENT
DTSTART;TZID=America/New_York:20250913T100000
DTEND;TZID=America/New_York:20260426T170000
DTSTAMP:20260423T195157
CREATED:20251231T062949Z
LAST-MODIFIED:20251231T062949Z
UID:457176-1757757600-1777222800@octobergallery.com
SUMMARY:African American Museum in Philadelphia
DESCRIPTION:Sailing to Freedom: Maritime Dimensions of the Underground Railroad \nOn View: September 13\, 2025 – April 26\, 2026 \n\n\n\n\n\n\n\nJack T. Franklin Auditorium \nAAMP is pleased to present Sailing to Freedom: Maritime Dimensions of the Underground Railroad\, a compelling traveling exhibition developed initially at the New Bedford Whaling Museum in 2022 under the co-curation of Dr. Timothy Walker and Michael Dyer. \nThis landmark project invites audiences to revisit and deepen our understanding of the maritime dimension of the Underground Railroad. It uncovers how enslaved African Americans\, in addition to overland routes\, undertook daring escapes by sea—charting covert paths along the Atlantic coast\, aboard merchant and passenger vessels\, and via lesser-known watercraft.\n​\nThis traveling version of the exhibition presents faithful reproductions of the original displays\, alongside new interpretive material that expands both geographical scope and historical insight. It offers visitors an immersive encounter with narratives of flight\, resilience\, and agency—stories of freedom pursued not only across land but over water\, and beyond the bounds of the United States. \n\n\n\n\n\n\n\n\nDetails – visit the museum’s website click here\n\n\nShare this:\n				Share on Facebook (Opens in new window)\n				Facebook\n			\n				Share on X (Opens in new window)\n				X\n			\n				Email a link to a friend (Opens in new window)\n				Email\n			\n				Print (Opens in new window)\n				Print\n			\n				Share on LinkedIn (Opens in new window)\n				LinkedIn\n			Like this:Like Loading...
URL:https://octobergallery.com/event/african-american-museum-in-philadelphia-4/
LOCATION:African American Museum in Philadelphia\, 701 Arch Street\, Philadelphia\, PA\, 19106\, United States
CATEGORIES:Black Philadelphia 250
ATTACH;FMTTYPE=image/jpeg:https://octobergallery.com/wp-content/uploads/2025/12/aamp-sailing-to-freedom_orig.jpg
END:VEVENT
BEGIN:VEVENT
DTSTART;TZID=America/New_York:20251011T120000
DTEND;TZID=America/New_York:20251013T180000
DTSTAMP:20260423T195157
CREATED:20250929T022204Z
LAST-MODIFIED:20250930T025333Z
UID:443619-1760184000-1760378400@octobergallery.com
SUMMARY:Art Show & Sale part of Black Philadelphia 250
DESCRIPTION:Art Show & Sale\nOctober 11\, 12 & 13\, 2025\nNoon to 6 PM\nOctober Gallery Museum\n6353 Greene St\nPhiladelphia\, PA 19144\n215-352-3114\noctobergallery.com \nArt by over 25 different artists.\nSome artists will be in attendance.\nAdmission Free! \nShare this:\n				Share on Facebook (Opens in new window)\n				Facebook\n			\n				Share on X (Opens in new window)\n				X\n			\n				Email a link to a friend (Opens in new window)\n				Email\n			\n				Print (Opens in new window)\n				Print\n			\n				Share on LinkedIn (Opens in new window)\n				LinkedIn\n			Like this:Like Loading...
URL:https://octobergallery.com/event/art-show-sale-part-of-black-philadelphia-250/
LOCATION:October Gallery\, 6353 Greene Street\, Philadelphia\, PA\, 19144\, United States
CATEGORIES:Art Show,Black Philadelphia 250
ATTACH;FMTTYPE=image/png:https://octobergallery.com/wp-content/uploads/2025/09/buscardblackphilly250.png
ORGANIZER;CN="October Gallery":MAILTO:events@octobergallery.com
END:VEVENT
BEGIN:VEVENT
DTSTART;TZID=America/New_York:20251011T120000
DTEND;TZID=America/New_York:20251013T180000
DTSTAMP:20260423T195157
CREATED:20250929T132912Z
LAST-MODIFIED:20251004T004937Z
UID:444367-1760184000-1760378400@octobergallery.com
SUMMARY:Andrew Turner Art Show part of Black Philly 250
DESCRIPTION:Andrew Turner Art Show and Sale\n\n\n\nOctober 11\, 12 & 13\, 2025 Noon to 6 PM October Gallery Museum 6353 Greene Street Philly 19144 Admission Free. To view Turner’s artwork\, click here. \n  \nFree Turner Print with RSVP.“Stephanie” by Andrew Turner12″ x 16″ or 11″ x 17″ print.Must attend event. Adm. Free\n \n  \nor \nFree Turner Print with RSVP.“Music Music Music” by Andrew Turner12″ x 16″ or 11″ x 17″ print.Must attend event. Adm. FreeShare this:\n				Share on Facebook (Opens in new window)\n				Facebook\n			\n				Share on X (Opens in new window)\n				X\n			\n				Email a link to a friend (Opens in new window)\n				Email\n			\n				Print (Opens in new window)\n				Print\n			\n				Share on LinkedIn (Opens in new window)\n				LinkedIn\n			Like this:Like Loading...
URL:https://octobergallery.com/event/andrew-turner-art-show-part-of-black-philly-250/
LOCATION:October Gallery\, 6353 Greene Street\, Philadelphia\, PA\, 19144\, United States
CATEGORIES:Art Show,Black Philadelphia 250
ATTACH;FMTTYPE=image/jpeg:https://octobergallery.com/wp-content/uploads/2025/08/artofturner.jpg
ORGANIZER;CN="October Gallery":MAILTO:customerservice@octobergallery.com
END:VEVENT
BEGIN:VEVENT
DTSTART;TZID=America/New_York:20251011T130000
DTEND;TZID=America/New_York:20251011T160000
DTSTAMP:20260423T195157
CREATED:20250929T021123Z
LAST-MODIFIED:20250930T025033Z
UID:443615-1760187600-1760198400@octobergallery.com
SUMMARY:Art Class part of Black Philadelphia 250
DESCRIPTION:Art class at the museum October 11\, 2025.\nRegester below. Free to attend. \nShare this:\n				Share on Facebook (Opens in new window)\n				Facebook\n			\n				Share on X (Opens in new window)\n				X\n			\n				Email a link to a friend (Opens in new window)\n				Email\n			\n				Print (Opens in new window)\n				Print\n			\n				Share on LinkedIn (Opens in new window)\n				LinkedIn\n			Like this:Like Loading...
URL:https://octobergallery.com/event/art-class-part-of-black-philadelphia-250/
LOCATION:October Gallery\, 6353 Greene Street\, Philadelphia\, PA\, 19144\, United States
CATEGORIES:Art Show,Black Philadelphia 250,Education
ATTACH;FMTTYPE=image/jpeg:https://octobergallery.com/wp-content/uploads/2025/09/artclass.jpg
ORGANIZER;CN="October Gallery":MAILTO:customerservice@octobergallery.com
END:VEVENT
BEGIN:VEVENT
DTSTART;TZID=America/New_York:20251012T140000
DTEND;TZID=America/New_York:20251012T180000
DTSTAMP:20260423T195157
CREATED:20250929T031754Z
LAST-MODIFIED:20250929T031754Z
UID:443634-1760277600-1760292000@octobergallery.com
SUMMARY:Art Auction part of Black Philadelphia 250
DESCRIPTION:  \nArt Auction\nSunday\, October 12\, 2025\n2 to 6 PM \nOctober Gallery Museum\n6353 Greene St.\nPhiladelphia\, PA 19144\n215-352-3114\noctobergallery.com \nAdmission FREE! \nSome items will start at $5 \nShare this:\n				Share on Facebook (Opens in new window)\n				Facebook\n			\n				Share on X (Opens in new window)\n				X\n			\n				Email a link to a friend (Opens in new window)\n				Email\n			\n				Print (Opens in new window)\n				Print\n			\n				Share on LinkedIn (Opens in new window)\n				LinkedIn\n			Like this:Like Loading...
URL:https://octobergallery.com/event/art-auction-part-of-black-philadelphia-250/
LOCATION:October Gallery\, 6353 Greene Street\, Philadelphia\, PA\, 19144\, United States
CATEGORIES:Black Philadelphia 250
ATTACH;FMTTYPE=image/jpeg:https://octobergallery.com/wp-content/uploads/2024/10/auction.jpg
ORGANIZER;CN="October Gallery":MAILTO:customerservice@octobergallery.com
END:VEVENT
BEGIN:VEVENT
DTSTART;TZID=America/New_York:20251013T130000
DTEND;TZID=America/New_York:20251013T160000
DTSTAMP:20260423T195157
CREATED:20250930T232615Z
LAST-MODIFIED:20250930T232615Z
UID:446604-1760360400-1760371200@octobergallery.com
SUMMARY:Art Class / Andromeda Cook part of Black Philly 250
DESCRIPTION:Art class Monday\, October 13\, 2025\n1 to 4 PM \nClass will be led by artist Andromeda Cook \nSign up below RSVP to receive a Free Poster. \nOctober Gallery Museum\n6353 Greene St\nPhilly 19144\n215-352-3114 \nAdmission Free \nShare this:\n				Share on Facebook (Opens in new window)\n				Facebook\n			\n				Share on X (Opens in new window)\n				X\n			\n				Email a link to a friend (Opens in new window)\n				Email\n			\n				Print (Opens in new window)\n				Print\n			\n				Share on LinkedIn (Opens in new window)\n				LinkedIn\n			Like this:Like Loading...
URL:https://octobergallery.com/event/art-class-andromeda-cook-part-of-black-philly-250/
LOCATION:October Gallery\, 6353 Greene Street\, Philadelphia\, PA\, 19144\, United States
CATEGORIES:Black Philadelphia 250
ATTACH;FMTTYPE=image/png:https://octobergallery.com/wp-content/uploads/2023/04/artclass.png
ORGANIZER;CN="October Gallery":MAILTO:customerservice@octobergallery.com
END:VEVENT
BEGIN:VEVENT
DTSTART;TZID=America/New_York:20251013T130000
DTEND;TZID=America/New_York:20251013T160000
DTSTAMP:20260423T195157
CREATED:20251004T135248Z
LAST-MODIFIED:20251007T121905Z
UID:449810-1760360400-1760371200@octobergallery.com
SUMMARY:Andrew Turner Paint Party part of Black Philadelphia 250
DESCRIPTION:Paint Party!!\nPaint Party!! \nLike a Paint Party….only one painting. \nHelp us paint an Andrew Turner Mural – 4 ft. x 8 ft.  Join us Monday\, Oct. 13 – 1 to 4 PM as we all join together to paint – in the likeness of Turner- this image\, see below. Adm free. We provide all materials. Just come and help us paint – or just watch. All that participate will receive a free poster of “Hello Friend” by Andrew Turner. Lite refreshments and other free giveaways for the kids. \nBring the kids. School is closed for the holiday. \nArtist Andromeda Cook will facilitate this process.\n\nMonday\, October 13\, 2025\n1 to 4 PM\nOctober Gallery Museum\n6353 Greene St. Philly\, PA 19144 \nPlease RSVP below to receive your free Turner poster and other giveaways.\nThanks! \nAdmission Free\nFree Poster of “Hello Friend” by Andrew Tuner.\nNo purchase necessary. \n \n  \nShare this:\n				Share on Facebook (Opens in new window)\n				Facebook\n			\n				Share on X (Opens in new window)\n				X\n			\n				Email a link to a friend (Opens in new window)\n				Email\n			\n				Print (Opens in new window)\n				Print\n			\n				Share on LinkedIn (Opens in new window)\n				LinkedIn\n			Like this:Like Loading...
URL:https://octobergallery.com/event/andrew-turner-paint-party-part-of-black-philadelphia-250/
LOCATION:October Gallery\, 6353 Greene Street\, Philadelphia\, PA\, 19144\, United States
CATEGORIES:Black Philadelphia 250
ATTACH;FMTTYPE=image/png:https://octobergallery.com/wp-content/uploads/2019/11/paintparty.png
ORGANIZER;CN="October Gallery":MAILTO:customerservice@octobergallery.com
END:VEVENT
BEGIN:VEVENT
DTSTART;TZID=America/New_York:20251018T140000
DTEND;TZID=America/New_York:20251018T180000
DTSTAMP:20260423T195157
CREATED:20251015T200435Z
LAST-MODIFIED:20251015T200435Z
UID:454021-1760796000-1760810400@octobergallery.com
SUMMARY:Celebrate the anniversary of the Million Man March
DESCRIPTION:Celebrate the anniversary of the Million Man March with this divinely inspired music collection from Minister Farrakhan. Each track is crafted to uplift your spirit and reflect on a pivotal moment in history. Let the powerful melodies and profound messages fill your space\, serving as a timeless reminder of unity\, strength\, and progress. This collection isn’t just music; it’s an experience that honors a legacy and inspires continued purpose. \nShare this:\n				Share on Facebook (Opens in new window)\n				Facebook\n			\n				Share on X (Opens in new window)\n				X\n			\n				Email a link to a friend (Opens in new window)\n				Email\n			\n				Print (Opens in new window)\n				Print\n			\n				Share on LinkedIn (Opens in new window)\n				LinkedIn\n			Like this:Like Loading...
URL:https://octobergallery.com/event/celebrate-the-anniversary-of-the-million-man-march/
LOCATION:October Gallery\, 6353 Greene Street\, Philadelphia\, PA\, 19144\, United States
CATEGORIES:Black Philadelphia 250,Education,Seminar/Lecture
ATTACH;FMTTYPE=image/jpeg:https://octobergallery.com/wp-content/uploads/2025/10/558693044_1209426114552616_1765210717705605135_n.jpg
END:VEVENT
END:VCALENDAR