BEGIN:VCALENDAR
VERSION:2.0
PRODID:-//October Gallery Museum  - ECPv6.15.15//NONSGML v1.0//EN
CALSCALE:GREGORIAN
METHOD:PUBLISH
X-ORIGINAL-URL:https://octobergallery.com
X-WR-CALDESC:Events for October Gallery Museum 
REFRESH-INTERVAL;VALUE=DURATION:PT1H
X-Robots-Tag:noindex
X-PUBLISHED-TTL:PT1H
BEGIN:VTIMEZONE
TZID:America/New_York
BEGIN:DAYLIGHT
TZOFFSETFROM:-0500
TZOFFSETTO:-0400
TZNAME:EDT
DTSTART:20250309T070000
END:DAYLIGHT
BEGIN:STANDARD
TZOFFSETFROM:-0400
TZOFFSETTO:-0500
TZNAME:EST
DTSTART:20251102T060000
END:STANDARD
BEGIN:DAYLIGHT
TZOFFSETFROM:-0500
TZOFFSETTO:-0400
TZNAME:EDT
DTSTART:20260308T070000
END:DAYLIGHT
BEGIN:STANDARD
TZOFFSETFROM:-0400
TZOFFSETTO:-0500
TZNAME:EST
DTSTART:20261101T060000
END:STANDARD
BEGIN:DAYLIGHT
TZOFFSETFROM:-0500
TZOFFSETTO:-0400
TZNAME:EDT
DTSTART:20270314T070000
END:DAYLIGHT
BEGIN:STANDARD
TZOFFSETFROM:-0400
TZOFFSETTO:-0500
TZNAME:EST
DTSTART:20271107T060000
END:STANDARD
END:VTIMEZONE
BEGIN:VEVENT
DTSTART;TZID=America/New_York:20260205T180000
DTEND;TZID=America/New_York:20260205T210000
DTSTAMP:20260424T002041
CREATED:20260112T195105Z
LAST-MODIFIED:20260112T195904Z
UID:457660-1770314400-1770325200@octobergallery.com
SUMMARY:Storytelling Through Feel and Texture MAAAC
DESCRIPTION:The MAAAC follow-up exhibition will feature selected works from African American Art Collections around the region.​​\n\n\nFebruary 5\, 2026 \n6pm-9pm \nOpening Reception \n\n\nFeaturing the collections of: \nSydney Howe Barksdale \nThe Craig Family Foundation \nKristin E. Holmes \nWilliam Skeet Jiggetts​ \nSterling Johnson \nDeborah Stephens \nCollectors’ Life\nTactile: Storytelling Through Feel\nand Texture\nAllens Lane Art Center\n601 W Allens Lane | Philadelphia\, PA 19119​ \nHours: \nMonday – Friday: 10:00 am – 5:00 pm \n\nShare this:\n				Share on Facebook (Opens in new window)\n				Facebook\n			\n				Share on X (Opens in new window)\n				X\n			\n				Email a link to a friend (Opens in new window)\n				Email\n			\n				Print (Opens in new window)\n				Print\n			\n				Share on LinkedIn (Opens in new window)\n				LinkedIn\n			Like this:Like Loading...
URL:https://octobergallery.com/event/storytelling-through-feel-and-texture-maaac/
LOCATION:Allens Lane Art Ceer\, 601 W Allens Lane\, Philadelphia\, PA\, 19119\, United States
CATEGORIES:Black Philadelphia 250
ATTACH;FMTTYPE=image/jpeg:https://octobergallery.com/wp-content/uploads/2026/01/williamjiggetts.jpg
END:VEVENT
BEGIN:VEVENT
DTSTART;TZID=America/New_York:20260207T133000
DTEND;TZID=America/New_York:20260207T163000
DTSTAMP:20260424T002041
CREATED:20260128T222535Z
LAST-MODIFIED:20260206T152109Z
UID:458403-1770471000-1770481800@octobergallery.com
SUMMARY:The Plate & Palette Social Tour
DESCRIPTION:Saturday\, February 7\, 2026\n1:30 PM\nOctober Gallery Museum\n6353 Greene Street\, Philadelphia\, PA 19144 \nWe ask you guys to come as you are and be open to the different possibilities that art brings!\nTour Guide: Lucy Karanja \nAdmission is Free. No purchase necessary. Donations requested but not required. \nPlease RSVP below to receive your Swag Bag filled with prints\, posters and artful literature. \nOctober Gallery was established and opened for business in July of 1985\, at 3805 Lancaster Avenue\, Philadelphia\, Pennsylvania. Today\, the October Gallery Museum celebrates 41 years in the African American Art Business. Our theme: “Connecting People with Art”. \n  \nOur Legacy – Highlights – Through the Years!\nPeople and Events that Shaped the October Gallery – Click Image Below \n  \n \nShare this:\n				Share on Facebook (Opens in new window)\n				Facebook\n			\n				Share on X (Opens in new window)\n				X\n			\n				Email a link to a friend (Opens in new window)\n				Email\n			\n				Print (Opens in new window)\n				Print\n			\n				Share on LinkedIn (Opens in new window)\n				LinkedIn\n			Like this:Like Loading...
URL:https://octobergallery.com/event/the-plate-palette-social-tour/
LOCATION:October Gallery\, 6353 Greene Street\, Philadelphia\, PA\, 19144\, United States
CATEGORIES:Black Philadelphia 250
ATTACH;FMTTYPE=image/jpeg:https://octobergallery.com/wp-content/uploads/2026/01/blackhistoryAIimageetsy1.jpg
END:VEVENT
BEGIN:VEVENT
DTSTART;TZID=America/New_York:20260207T150000
DTEND;TZID=America/New_York:20260207T180000
DTSTAMP:20260424T002041
CREATED:20260204T161127Z
LAST-MODIFIED:20260204T162025Z
UID:458582-1770476400-1770487200@octobergallery.com
SUMMARY:A Meditative Seminar The Power of Stillness
DESCRIPTION:The Power of Stillness \nA Meditative Seminar • February 7    3–6 PM • October Gallery Museum\nStep into an afternoon of calm\, clarity\, and cultural elevation. Join us for The Power of Stillness: A Meditative Seminar—a space to breathe\, reset\, and reconnect with your inner balance.\nAs a special gift to our community:\n Free Art Giveaway\n\n 50% OFF Original African Paintings \nAdmission FREE!! \n\nCome experience wellness\, art\, and Afrikan creativity under one roof.\nBring a friend\, bring your spirit\, and leave renewed.\n\nOctober Gallery Museum\n6353 Greene St.\nPhiladelphia\, PA 19144\n215-352-3114\n\n\n \n\nShare this:\n				Share on Facebook (Opens in new window)\n				Facebook\n			\n				Share on X (Opens in new window)\n				X\n			\n				Email a link to a friend (Opens in new window)\n				Email\n			\n				Print (Opens in new window)\n				Print\n			\n				Share on LinkedIn (Opens in new window)\n				LinkedIn\n			Like this:Like Loading...
URL:https://octobergallery.com/event/a-meditative-seminar-the-power-of-stillness/
LOCATION:October Gallery\, 6353 Greene Street\, Philadelphia\, PA\, 19144\, United States
CATEGORIES:Black Philadelphia 250
ATTACH;FMTTYPE=image/webp:https://octobergallery.com/wp-content/uploads/2026/02/GettyImages-938890492-becc3fc4757849bea672f148454943f9.webp
ORGANIZER;CN="October Gallery":MAILTO:customerservice@octobergallery.com
END:VEVENT
BEGIN:VEVENT
DTSTART;TZID=America/New_York:20260214T140000
DTEND;TZID=America/New_York:20260214T170000
DTSTAMP:20260424T002041
CREATED:20260209T024118Z
LAST-MODIFIED:20260210T230914Z
UID:458656-1771077600-1771088400@octobergallery.com
SUMMARY:Valentine Free Framed Art / Aquarius Party
DESCRIPTION:Visit the October Gallery Museum Saturday\, February 14\, 2026 – 2 to 5 PM and receive a FREE 8′ x 10″ FRAMED Valentine piece of art. Choose from the selection below. \n++++++++++++ \nAlso\, an Aquarius Celebration. \n \n\nAlso\, an Aquarius Celebration.\n+++++++++++ \nVisit us at 6353 Greene St. Philly 19144 – 2 to 5 PM. Take the tour and receive your art.\nAdmission Free. No purchase necesary. \noctobergallery.com  215-352-3114 \nPlease RSVP below. It’s free. \n \n \n \n \n \n \n \n  \n \nJoin us for an Aquarius Birthday Celebration this Saturday\, February 14\, 2026\n3 to 6 PM at October Gallery Museum 6353 Greene Street Philadelphia\, PA 19144.\n\n\nWe provide the following: \nSwag Bag full of prints and posters for all born under the sign of Aquarius.\nA hugh birthday cake with candles and more.\nFood and drinks.\nFree raffle. \n\nAdmission free. No purchase necessary.\n\nPlease RSVP below.\nIt’s all FREE. Come celebrate our 41st year in the art business. \nThanks! \nShare this:\n				Share on Facebook (Opens in new window)\n				Facebook\n			\n				Share on X (Opens in new window)\n				X\n			\n				Email a link to a friend (Opens in new window)\n				Email\n			\n				Print (Opens in new window)\n				Print\n			\n				Share on LinkedIn (Opens in new window)\n				LinkedIn\n			Like this:Like Loading...
URL:https://octobergallery.com/event/valentine-free-framed-art-2/
LOCATION:October Gallery\, 6353 Greene Street\, Philadelphia\, PA\, 19144\, United States
CATEGORIES:Black Philadelphia 250
ATTACH;FMTTYPE=image/jpeg:https://octobergallery.com/wp-content/uploads/2026/02/valentineprint3.jpg
ORGANIZER;CN="October Gallery":MAILTO:customerservice@octobergallery.com
END:VEVENT
BEGIN:VEVENT
DTSTART;TZID=America/New_York:20260215T150000
DTEND;TZID=America/New_York:20260215T180000
DTSTAMP:20260424T002041
CREATED:20260202T133433Z
LAST-MODIFIED:20260212T154806Z
UID:458518-1771167600-1771178400@octobergallery.com
SUMMARY:Paint and Sip 2/15/2026
DESCRIPTION:Join Us for a\nPaint & Sip\nSunday\, February 15\, 2026 \nÀse Yoga Studio\n& Tea Room\n4054 Ridge Ave\, Phila. PA 19129\n3 to 6 PM \nRSVP Below.\nPay $15 at the door.\n\nShare this:\n				Share on Facebook (Opens in new window)\n				Facebook\n			\n				Share on X (Opens in new window)\n				X\n			\n				Email a link to a friend (Opens in new window)\n				Email\n			\n				Print (Opens in new window)\n				Print\n			\n				Share on LinkedIn (Opens in new window)\n				LinkedIn\n			Like this:Like Loading...
URL:https://octobergallery.com/event/paint-and-sip-2-15-2026/
LOCATION:Àse Yoga Studio & Tea Room\, 4054 Ridge Ave\, Philadelphia\, 19129\, United States
CATEGORIES:Black Philadelphia 250
ATTACH;FMTTYPE=image/jpeg:https://octobergallery.com/wp-content/uploads/2026/02/teaflyer.jpg
ORGANIZER;CN="October Gallery":MAILTO:events@octobergallery.com
END:VEVENT
BEGIN:VEVENT
DTSTART;TZID=America/New_York:20260218T120000
DTEND;TZID=America/New_York:20260218T200000
DTSTAMP:20260424T002041
CREATED:20260213T014611Z
LAST-MODIFIED:20260217T143647Z
UID:458830-1771416000-1771444800@octobergallery.com
SUMMARY:Free Frank Frazier Poster
DESCRIPTION:Free Frank Frazier Poster\nArt Exhibition\nWednesday\, February 18\, 2026\nNoon to 8 PM\nOctober Gallery Museum\n6353 Greene Street\nPhiladelphia\, PA 19144\nAdmission Free! \nGroup Exhibition Featuring Art by Frank Frazier \nMeet the Artists\nDon O’Bannon Rhea Rose Laura Lisa\nSeidah Williams Carl Crawford \nPlease RSVP below to receive your Free Frank Frazier Poster \nMeet Rhea Rose \nArt by Don O’Bannon \nArt by Carl Crawford \n++++++++++ \nJust added Entertainment: The Music of John Coltrane performed by Alfie Pollitt \n\n++++++++++ \nALSO\, RSVP below and we’ll add in one of these prints as a bonus. \n\nhttps://octobergallery.com/wp-content/uploads/2026/02/gxabomaoommnpvatovdu.mp4\nShare this:\n				Share on Facebook (Opens in new window)\n				Facebook\n			\n				Share on X (Opens in new window)\n				X\n			\n				Email a link to a friend (Opens in new window)\n				Email\n			\n				Print (Opens in new window)\n				Print\n			\n				Share on LinkedIn (Opens in new window)\n				LinkedIn\n			Like this:Like Loading...
URL:https://octobergallery.com/event/frankfrazier-poster/
LOCATION:October Gallery\, 6353 Greene Street\, Philadelphia\, PA\, 19144\, United States
CATEGORIES:Black Philadelphia 250
ATTACH;FMTTYPE=image/jpeg:https://octobergallery.com/wp-content/uploads/2026/02/frankfrazierposter.jpg
ORGANIZER;CN="October Gallery":MAILTO:customerservice@octobergallery.com
END:VEVENT
BEGIN:VEVENT
DTSTART;TZID=America/New_York:20260219T130000
DTEND;TZID=America/New_York:20260222T180000
DTSTAMP:20260424T002041
CREATED:20260219T123314Z
LAST-MODIFIED:20260220T122248Z
UID:459038-1771506000-1771783200@octobergallery.com
SUMMARY:Up to 75% Off Black Art
DESCRIPTION:Black Art Show and Sale\nOctober Gallery\n6353 Greene St 19144\n2/19 – 2/22 – 1 to 6 PM\nAdmission Free \nArt by:\nCharles Bibbs\nLarry Brown\nRomare Bearden\nCharles White\nAndrew Turner\nSam Byrd\nJohn Holyfield\nRhea Rose\nFrank Frazier\nJohn Biggers\nand more \nCome celebrate our 41st year in Art.\nOctober Gallery has been Connecting People with Art since 1985. \nShare this:\n				Share on Facebook (Opens in new window)\n				Facebook\n			\n				Share on X (Opens in new window)\n				X\n			\n				Email a link to a friend (Opens in new window)\n				Email\n			\n				Print (Opens in new window)\n				Print\n			\n				Share on LinkedIn (Opens in new window)\n				LinkedIn\n			Like this:Like Loading...
URL:https://octobergallery.com/event/up-to-75-off-black-art/
LOCATION:October Gallery\, 6353 Greene Street\, Philadelphia\, PA\, 19144\, United States
CATEGORIES:Black Philadelphia 250
ATTACH;FMTTYPE=image/png:https://octobergallery.com/wp-content/uploads/2026/02/75offsale57A.png
ORGANIZER;CN="October Gallery":MAILTO:customerservice@octobergallery.com
END:VEVENT
BEGIN:VEVENT
DTSTART;TZID=America/New_York:20260307T130000
DTEND;TZID=America/New_York:20260307T170000
DTSTAMP:20260424T002041
CREATED:20260302T032929Z
LAST-MODIFIED:20260304T143245Z
UID:459464-1772888400-1772902800@octobergallery.com
SUMMARY:Black History Education & Music Fest
DESCRIPTION:Black History Education & Music Fest\nMarch 7\, 2026\n1 Pm \nOctober Gallery Museum\n6353 Greene St.\nPhiladelphia\, PA 19144\n215-352-3114 \nAdmission Free\nFree Coffee Mug and poster with this ad.\nWhile supplies last. \n \n  \nShare this:\n				Share on Facebook (Opens in new window)\n				Facebook\n			\n				Share on X (Opens in new window)\n				X\n			\n				Email a link to a friend (Opens in new window)\n				Email\n			\n				Print (Opens in new window)\n				Print\n			\n				Share on LinkedIn (Opens in new window)\n				LinkedIn\n			Like this:Like Loading...
URL:https://octobergallery.com/event/black-history-education-music-fest/
LOCATION:October Gallery\, 6353 Greene Street\, Philadelphia\, PA\, 19144\, United States
CATEGORIES:Black Philadelphia 250
ATTACH;FMTTYPE=image/jpeg:https://octobergallery.com/wp-content/uploads/2026/03/Black-And-Blue-Minimalistic-Music-Festival-Poster-1.jpg
ORGANIZER;CN="October Gallery":MAILTO:customerservice@octobergallery.com
END:VEVENT
BEGIN:VEVENT
DTSTART;TZID=America/New_York:20260318T140000
DTEND;TZID=America/New_York:20260731T160000
DTSTAMP:20260424T002041
CREATED:20260318T093519Z
LAST-MODIFIED:20260318T102512Z
UID:460027-1773842400-1785513600@octobergallery.com
SUMMARY:Art Seminars/Discussions
DESCRIPTION:Art Seminars and Discussions\nTextbook: “Connecting People with Art”\nRead book online Click Here \nEvery Saturday and Sunday 2 to 4 PM\nOctober Gallery Museum\n6353 Greene Street\nPhiladelphia\, PA 19144\n215-352-3114 \nAdmission Free\nRSVP requested but not required\nSee below to RSVP \nEach weekend a distinguished artist\, art educator\, activist\, writer\, or collector will be in attendance to guide the class through a discussion on art and art related issues. \nAdults and children.\n\nFree coffee mug\, books or art to all that RSVP below.\nNo purchase necessary. No Fee. \n  \n\n\n \n\n\n \n \n \nShare this:\n				Share on Facebook (Opens in new window)\n				Facebook\n			\n				Share on X (Opens in new window)\n				X\n			\n				Email a link to a friend (Opens in new window)\n				Email\n			\n				Print (Opens in new window)\n				Print\n			\n				Share on LinkedIn (Opens in new window)\n				LinkedIn\n			Like this:Like Loading...
URL:https://octobergallery.com/event/art-classes-and-art-seminars/
LOCATION:October Gallery\, 6353 Greene Street\, Philadelphia\, PA\, 19144\, United States
CATEGORIES:Black Philadelphia 250,Education
ATTACH;FMTTYPE=image/png:https://octobergallery.com/wp-content/uploads/2026/03/seminar2356.png
ORGANIZER;CN="October Gallery":MAILTO:customerservice@octobergallery.com
END:VEVENT
BEGIN:VEVENT
DTSTART;TZID=America/New_York:20260423T080000
DTEND;TZID=America/New_York:20260426T170000
DTSTAMP:20260424T002041
CREATED:20260106T102418Z
LAST-MODIFIED:20260106T102418Z
UID:457394-1776931200-1777222800@octobergallery.com
SUMMARY:Philly Black Pride 250
DESCRIPTION:“It is not our differences that divide us. It is our inability to recognize\, accept\, and celebrate those differences.” \n\n\nAudre Lorde \n“Empowering and transforming the lives of LGBTQ people of color through inclusive social and living environments.” \n \n\nShare this:\n				Share on Facebook (Opens in new window)\n				Facebook\n			\n				Share on X (Opens in new window)\n				X\n			\n				Email a link to a friend (Opens in new window)\n				Email\n			\n				Print (Opens in new window)\n				Print\n			\n				Share on LinkedIn (Opens in new window)\n				LinkedIn\n			Like this:Like Loading...
URL:https://octobergallery.com/event/philly-black-pride-250/
LOCATION:Warwick Hotel\, 220 S 17th St\, Philadelphia\, PA\, 19103\, United States
CATEGORIES:Black Philadelphia 250
ATTACH;FMTTYPE=image/jpeg:https://octobergallery.com/wp-content/uploads/2026/01/phillypride.jpg
END:VEVENT
BEGIN:VEVENT
DTSTART;TZID=America/New_York:20260425T120000
DTEND;TZID=America/New_York:20260425T200000
DTSTAMP:20260424T002041
CREATED:20260403T004502Z
LAST-MODIFIED:20260416T230320Z
UID:460841-1777118400-1777147200@octobergallery.com
SUMMARY:Michael Jackson Movie Tickets $7
DESCRIPTION:Attend our FREE Event ART PAVILION – Black Art Show & Sale.\nSaturday\, April 25\, 2026  Noon to 8 PM.\nGermantown Settlement Music School\n6128 Germantown Ave. Philly 19144\n215-352-3114 \n \n \nSeven Dollars ($7.00) Michael Jackson Movie Tickets\nAttend our event – and pick up your tickets.\nART PAVILION as part of Germantown Jazz Festival Saturday\, April 25\, 2026  Noon to 8 PM.\nArt Pavilion is free to attend. Germantown Settlement Music School\n6128 Germantown Ave. Philly 19144  215-352-3114 \nPay for tickets below and pick up the PHYSICAL ticket(s) Saturday\, April 25\, 2026\nNoon to 8 PM at our event.\n\nDETAILS:\n“Michael” Showing at this Movie Theater–\nRegal UA Main Street\n3720 Main St\, Manayunk\, PA 19127\nTickets are for Tuesday\, April 28\, 2026 at 6:50 PM (ONLY!!)\nOctober Gallery has the tickets. You get the tickets from US! Not the theater.\nPurchase tickets below\, attend our event (art pavilion) and pick up your tickets\n– Saturday\, April 25\, 2026  Noon to 8 PM. – ONLY!!!\nQuestions/Comments 215-352-3114  customerservice@octobergallery.com \n \nPay for the tickets below\, attend our event – Art Pavilion and receive your tickets.\nArt Pavilion is free to attend. No purchase necessary.\nGermantown Settlement Music School\n6128 Germantown Ave. Philly 19144\n215-352-3114 \nThis is a promotional offer for The Germantown Jazz Festival.\nSeven dollars ($7.00) tickets are part of the promotion.\nOctober Gallery is celebrating 41 years in business. We opened in 1985. \nShare this:\n				Share on Facebook (Opens in new window)\n				Facebook\n			\n				Share on X (Opens in new window)\n				X\n			\n				Email a link to a friend (Opens in new window)\n				Email\n			\n				Print (Opens in new window)\n				Print\n			\n				Share on LinkedIn (Opens in new window)\n				LinkedIn\n			Like this:Like Loading...
URL:https://octobergallery.com/event/michael-jackson-movie-tickets-2/
LOCATION:October Gallery\, 6353 Greene Street\, Philadelphia\, PA\, 19144\, United States
CATEGORIES:Black Philadelphia 250,Seminar/Lecture,Tickets
ATTACH;FMTTYPE=image/jpeg:https://octobergallery.com/wp-content/uploads/2026/04/download-7-45-1068x601-1.jpg
ORGANIZER;CN="October Gallery":MAILTO:customerservice@octobergallery.com
END:VEVENT
BEGIN:VEVENT
DTSTART;TZID=America/New_York:20260425T120000
DTEND;TZID=America/New_York:20260425T200000
DTSTAMP:20260424T002041
CREATED:20260408T112212Z
LAST-MODIFIED:20260417T013400Z
UID:461023-1777118400-1777147200@octobergallery.com
SUMMARY:Vendor Germantown Jazz Festival
DESCRIPTION:Art Pavilion at Germantown Jazz Festival\nSaturday\, April 25\, 2026 Noon to 8 PM\nGermantown Settlement Music School\n6128 Germantown Ave. Philly 19144\nAdmission to the Art Pavilion is FREE!\n215-352-3114 \nExhibit your art and art related items at this venue.\nIndoor table space six (6) ft.  $100\nOutdoor booth space eight (8) ft.  $175\nWe provide the space only\, you bring table/chair\, setup\, etc.\nRain or shine no refunds. \nClick the link below and pay $100 or $175 depending on the space you choose.\nClick this link to pay \n \nQuestions/Comments call 215-352-3114 or email customerservice@octobergallery.com \nGermantown Jazz Festival is scheduled for April 24 – 26\, 2026\nHere is a link to the Festival. \nPromotions for the festival.\n\n \n \n \n\nShare this:\n				Share on Facebook (Opens in new window)\n				Facebook\n			\n				Share on X (Opens in new window)\n				X\n			\n				Email a link to a friend (Opens in new window)\n				Email\n			\n				Print (Opens in new window)\n				Print\n			\n				Share on LinkedIn (Opens in new window)\n				LinkedIn\n			Like this:Like Loading...
URL:https://octobergallery.com/event/vendor-germantown-jazz-festival/
LOCATION:PA
CATEGORIES:Black Philadelphia 250,Festival
ATTACH;FMTTYPE=image/jpeg:https://octobergallery.com/wp-content/uploads/2026/04/artpavilionpromo8.5x11.jpg
END:VEVENT
BEGIN:VEVENT
DTSTART;TZID=America/New_York:20260515T130000
DTEND;TZID=America/New_York:20260830T180000
DTSTAMP:20260424T002041
CREATED:20260419T122951Z
LAST-MODIFIED:20260420T021455Z
UID:461310-1778850000-1788112800@octobergallery.com
SUMMARY:Art Exhibition Black Philly 250
DESCRIPTION:Black Philadelphia 250 Exhibition\nMay 15 through August 30\, 2026 \nOctober Gallery Museum\n6353 Green Street Philadelphia\, PA 19144\n215-352-3114 \nMuseum hours Thurdays – Sunday 1 to 6 PM\nAdmission Free – Donations requested \nFor groups of ten (10) or more please contact us at customerservice@octobergallery.com\nor call 215-352-3114 \nPeople Places and Events of Interest by People of Color during the 2026 Celebration \n \nDetails on the Poster: Black Philly 250 click here \n  \nShare this:\n				Share on Facebook (Opens in new window)\n				Facebook\n			\n				Share on X (Opens in new window)\n				X\n			\n				Email a link to a friend (Opens in new window)\n				Email\n			\n				Print (Opens in new window)\n				Print\n			\n				Share on LinkedIn (Opens in new window)\n				LinkedIn\n			Like this:Like Loading...
URL:https://octobergallery.com/event/art-exhibition-black-philly-250/
LOCATION:October Gallery\, 6353 Greene Street\, Philadelphia\, PA\, 19144\, United States
CATEGORIES:Black Philadelphia 250
ATTACH;FMTTYPE=image/jpeg:https://octobergallery.com/wp-content/uploads/2025/08/blackphilly2508.5x11final.jpg
ORGANIZER;CN="October Gallery":MAILTO:events@octobergallery.com
END:VEVENT
END:VCALENDAR