BEGIN:VCALENDAR
VERSION:2.0
PRODID:-//October Gallery Museum  - ECPv6.15.15//NONSGML v1.0//EN
CALSCALE:GREGORIAN
METHOD:PUBLISH
X-WR-CALNAME:October Gallery Museum 
X-ORIGINAL-URL:https://octobergallery.com
X-WR-CALDESC:Events for October Gallery Museum 
REFRESH-INTERVAL;VALUE=DURATION:PT1H
X-Robots-Tag:noindex
X-PUBLISHED-TTL:PT1H
BEGIN:VTIMEZONE
TZID:America/New_York
BEGIN:DAYLIGHT
TZOFFSETFROM:-0500
TZOFFSETTO:-0400
TZNAME:EDT
DTSTART:20240310T070000
END:DAYLIGHT
BEGIN:STANDARD
TZOFFSETFROM:-0400
TZOFFSETTO:-0500
TZNAME:EST
DTSTART:20241103T060000
END:STANDARD
BEGIN:DAYLIGHT
TZOFFSETFROM:-0500
TZOFFSETTO:-0400
TZNAME:EDT
DTSTART:20250309T070000
END:DAYLIGHT
BEGIN:STANDARD
TZOFFSETFROM:-0400
TZOFFSETTO:-0500
TZNAME:EST
DTSTART:20251102T060000
END:STANDARD
BEGIN:DAYLIGHT
TZOFFSETFROM:-0500
TZOFFSETTO:-0400
TZNAME:EDT
DTSTART:20260308T070000
END:DAYLIGHT
BEGIN:STANDARD
TZOFFSETFROM:-0400
TZOFFSETTO:-0500
TZNAME:EST
DTSTART:20261101T060000
END:STANDARD
END:VTIMEZONE
BEGIN:VEVENT
DTSTART;TZID=America/New_York:20250906T120000
DTEND;TZID=America/New_York:20250906T180000
DTSTAMP:20260424T122404
CREATED:20250811T185715Z
LAST-MODIFIED:20250929T134204Z
UID:441975-1757160000-1757181600@octobergallery.com
SUMMARY:Germantown Avenue Food Truck Festival
DESCRIPTION:Backpacks\, Bites and Beats!\nSaturday\, September 6\, 2025 | Noon – 6:00 PM\n(Rain Date: Sunday\, September 7th)\nLocation: 5400 Block Germantown Avenue (Between Coulter Street & School House Lane) \nJoin us for the inaugural Germantown Avenue Food Truck Festival! This exciting back-to-school celebration will bring together families\, food trucks\, live entertainment\, and community partners for an afternoon of fun\, music\, and giving back. With over 1\,500 attendees expected\, the festival will feature school supply giveaways\, activities for children\, and opportunities to support local businesses. \nThe Germantown Avenue Food Truck Festival is a community-driven event organized by The Achievement Foundation. Our mission is to create an annual signature event that supports small businesses\, highlights the Germantown Urban Village Historic District\, and provides vital back-to-school resources to families. \nAbout The Achievement Foundation:\nThe Achievement Foundation is a 501(c)3 organization citizens of the Philadelphia area. We are the charitable arm of the Philadelphia Alumni Chapter of Kappa Alpha Psi Fraternity\, Inc. We are dedicated to empowering youth and strengthening communities through service\, education\, and leadership development. \nFor more information about our programs\, visit www.theachivementfoundation.org.\n. \nFree large 24″ x 36″ Black Inventions Poster with RSVP – See Below.\nPick up in the Art Village at the Festival.\nPosters donated by the Alton Chandler Family.\n\n \nAdditional Black Inventions Free Posters Available. \n \n \nShare this:\n				Share on Facebook (Opens in new window)\n				Facebook\n			\n				Share on X (Opens in new window)\n				X\n			\n				Email a link to a friend (Opens in new window)\n				Email\n			\n				Print (Opens in new window)\n				Print\n			\n				Share on LinkedIn (Opens in new window)\n				LinkedIn\n			Like this:Like Loading...
URL:https://octobergallery.com/event/germantown-avenue-food-truck-festival/
LOCATION:5400 Block Germantown Ave. Philadelphia\, PA 19144\, 5400 Block Germantown Ave\, Philadelphia\, PA\, 19144\, United States
CATEGORIES:Festival,Kappa
ATTACH;FMTTYPE=image/jpeg:https://octobergallery.com/wp-content/uploads/2025/08/Food_Truck_Festival_2025_v7_hi-res-scaled.jpg
ORGANIZER;CN="Kappa Alpha Psi":MAILTO:info@germantownfoodfest.org
END:VEVENT
BEGIN:VEVENT
DTSTART;TZID=America/New_York:20250927T093000
DTEND;TZID=America/New_York:20250927T110000
DTSTAMP:20260424T122404
CREATED:20250811T192812Z
LAST-MODIFIED:20250929T134147Z
UID:442013-1758965400-1758970800@octobergallery.com
SUMMARY:Beats of Bahia: A Joyful Brazilian Drumming Workshop | September 27\, 2025
DESCRIPTION:With Luciano Xavier “Kekeu” \nShare this:\n				Share on Facebook (Opens in new window)\n				Facebook\n			\n				Share on X (Opens in new window)\n				X\n			\n				Email a link to a friend (Opens in new window)\n				Email\n			\n				Print (Opens in new window)\n				Print\n			\n				Share on LinkedIn (Opens in new window)\n				LinkedIn\n			Like this:Like Loading...
URL:https://octobergallery.com/event/beats-of-bahia-a-joyful-brazilian-drumming-workshop-september-27-2025/
LOCATION:Urban Movement Arts\, 2100 Chestnut Street\, #2nd floor\, Philadelphia\, PA\, 19103\, United States
CATEGORIES:Festival
ATTACH;FMTTYPE=image/jpeg:https://octobergallery.com/wp-content/uploads/2025/08/9cb3898d09f31a36888e3d4504652538.jpg
END:VEVENT
BEGIN:VEVENT
DTSTART;TZID=America/New_York:20250927T113000
DTEND;TZID=America/New_York:20250927T130000
DTSTAMP:20260424T122404
CREATED:20250811T192813Z
LAST-MODIFIED:20250929T134132Z
UID:442017-1758972600-1758978000@octobergallery.com
SUMMARY:Beats of Bahia: A Joyful Brazilian Drumming Workshop | September 27\, 2025
DESCRIPTION:With Luciano Xavier “Kekeu” \nShare this:\n				Share on Facebook (Opens in new window)\n				Facebook\n			\n				Share on X (Opens in new window)\n				X\n			\n				Email a link to a friend (Opens in new window)\n				Email\n			\n				Print (Opens in new window)\n				Print\n			\n				Share on LinkedIn (Opens in new window)\n				LinkedIn\n			Like this:Like Loading...
URL:https://octobergallery.com/event/beats-of-bahia-a-joyful-brazilian-drumming-workshop-september-27-2025-2/
LOCATION:Urban Movement Arts\, 2100 Chestnut Street\, #2nd floor\, Philadelphia\, PA\, 19103\, United States
CATEGORIES:Festival
ATTACH;FMTTYPE=image/jpeg:https://octobergallery.com/wp-content/uploads/2025/08/9cb3898d09f31a36888e3d4504652538.jpg
END:VEVENT
BEGIN:VEVENT
DTSTART;TZID=America/New_York:20250927T140000
DTEND;TZID=America/New_York:20250927T160000
DTSTAMP:20260424T122404
CREATED:20250811T192621Z
LAST-MODIFIED:20250929T134115Z
UID:442004-1758981600-1758988800@octobergallery.com
SUMMARY:Lewisville Road Symposium
DESCRIPTION:Please join us for a conversation about the history of the Lewisville Road community and its significance.\n\nShare this:\n				Share on Facebook (Opens in new window)\n				Facebook\n			\n				Share on X (Opens in new window)\n				X\n			\n				Email a link to a friend (Opens in new window)\n				Email\n			\n				Print (Opens in new window)\n				Print\n			\n				Share on LinkedIn (Opens in new window)\n				LinkedIn\n			Like this:Like Loading...
URL:https://octobergallery.com/event/lewisville-road-symposium/
LOCATION:The Lawrenceville School – Kirby Arts Center\, 2500 Main Street\, Lawrence Township\, NJ\, 08648\, United States
CATEGORIES:Festival
ATTACH;FMTTYPE=image/jpeg:https://octobergallery.com/wp-content/uploads/2025/08/8dc31f8fe278cf77046f05c625baefbe-1.jpg
END:VEVENT
END:VCALENDAR