BEGIN:VCALENDAR
VERSION:2.0
PRODID:-//October Gallery Museum  - ECPv6.15.15//NONSGML v1.0//EN
CALSCALE:GREGORIAN
METHOD:PUBLISH
X-WR-CALNAME:October Gallery Museum 
X-ORIGINAL-URL:https://octobergallery.com
X-WR-CALDESC:Events for October Gallery Museum 
REFRESH-INTERVAL;VALUE=DURATION:PT1H
X-Robots-Tag:noindex
X-PUBLISHED-TTL:PT1H
BEGIN:VTIMEZONE
TZID:America/New_York
BEGIN:DAYLIGHT
TZOFFSETFROM:-0500
TZOFFSETTO:-0400
TZNAME:EDT
DTSTART:20250309T070000
END:DAYLIGHT
BEGIN:STANDARD
TZOFFSETFROM:-0400
TZOFFSETTO:-0500
TZNAME:EST
DTSTART:20251102T060000
END:STANDARD
BEGIN:DAYLIGHT
TZOFFSETFROM:-0500
TZOFFSETTO:-0400
TZNAME:EDT
DTSTART:20260308T070000
END:DAYLIGHT
BEGIN:STANDARD
TZOFFSETFROM:-0400
TZOFFSETTO:-0500
TZNAME:EST
DTSTART:20261101T060000
END:STANDARD
BEGIN:DAYLIGHT
TZOFFSETFROM:-0500
TZOFFSETTO:-0400
TZNAME:EDT
DTSTART:20270314T070000
END:DAYLIGHT
BEGIN:STANDARD
TZOFFSETFROM:-0400
TZOFFSETTO:-0500
TZNAME:EST
DTSTART:20271107T060000
END:STANDARD
END:VTIMEZONE
BEGIN:VEVENT
DTSTART;TZID=America/New_York:20260614T080000
DTEND;TZID=America/New_York:20260614T200000
DTSTAMP:20260424T051938
CREATED:20250811T013801Z
LAST-MODIFIED:20250929T133933Z
UID:441789-1781424000-1781467200@octobergallery.com
SUMMARY:Odunde - June 14\, 2026
DESCRIPTION:ODUNDE was created in 1975 by Lois Fernandez. The festival attracts UP TO 500\,000 people annually and is the largest African American street  festival held in the country. The ODUNDE festival\, whose concept originates from the Yoruba people of Nigeria\, West Africa\, celebrates the coming of another year for  African Americans and Africanized people around the world. It is an occasion highlighted by a colorful procession from  23rd and South Street to the Schuylkill River where an offering of  fruit and flowers is made to Oshun\, the Yoruba goddess of the river. ODUNDE is also known for its authentic African marketplace featuring vendors from around the world selling merchandise from African nations\, the Caribbean and Brazil. \nEach year\, on the second Sunday  in June\, ODUNDE takes place covering 16 city blocks and has 2 stages of live entertainment.  ODUNDE will be celebrating its 49TH year in the  traditional South Philadelphia location near 23rd and South street. The festival started in 1975 with a $100.00 grant and neighbors from Fernandez’s South Philadelphia community. Since then the ODUNDE Festival has become a national model for cultural street festivals in the country.  The eclectic mix of vendors\, entertainment\, music\, food\, jewelry and African art  attracts people from around the WORLD.  ODUNDE IS FOR EVERYONE\, WE LOOK FORWARD TO SEEING YOU AND YOUR FAMILY THIS YEAR!!! \nShare this:\n				Share on Facebook (Opens in new window)\n				Facebook\n			\n				Share on X (Opens in new window)\n				X\n			\n				Email a link to a friend (Opens in new window)\n				Email\n			\n				Print (Opens in new window)\n				Print\n			\n				Share on LinkedIn (Opens in new window)\n				LinkedIn\n			Like this:Like Loading...
URL:https://octobergallery.com/event/odunde-june-14-2026/
LOCATION:Odunde\, 2308 GRAYS FERRY Avenue\, Philadelphia\, PA\, 19146\, United States
CATEGORIES:Festival
ATTACH;FMTTYPE=image/jpeg:https://octobergallery.com/wp-content/uploads/2025/08/dancers-courtesy-odunde-festival-1200x900px.jpg
ORGANIZER;CN="Odunde":MAILTO:odundefestival@gmail.com
END:VEVENT
END:VCALENDAR